BEGIN:VCALENDAR
VERSION:2.0
PRODID:-//wp-events-plugin.com//7.2.3.1//EN
TZID:America/New_York
X-WR-TIMEZONE:America/New_York
BEGIN:VEVENT
UID:5009@wjcouncil.org
DTSTART;TZID=America/New_York:20260421T190000
DTEND;TZID=America/New_York:20260421T190000
DTSTAMP:20260330T132532Z
URL:https://www.wjcouncil.org/events/yom-haatzmaut-with-gili-yalo-at-beth-
 el/
SUMMARY:Yom Ha'atzmaut with Gili Yalo at Beth El
DESCRIPTION:Yom Ha'atzmaut with Gili Yalo at Beth
 El\nbethelnr.org/gili\nTuesday\, April 21\, 2026 7:00pm\nBeth El Synagogue
 Center\, 1324 North Avenue\, New Rochelle\, NY 10451\n\nJoin us for Beth
 El’s Renowned Yom Ha’atzmaut Israel Independence Day Celebration with
 israeli singer/ songwriter gili yalo This musical evening will consist of a
 short Yom Hazikaron (Israel Memorial Day) ceremony\, a musical Ma’ariv
 including a raise-the-roof Hallel (a true don’t miss!)\, followed by an
 uplifting concert by the brilliant\, Gili Yalo and his band. Free! Register
 at bethelnr.org/gili\n\n&nbsp\;\n\nShoresh Halev Center for Music at Beth
 El\n\n&nbsp\;\n\n&nbsp\;
ATTACH;FMTTYPE=image/jpeg:https://www.wjcouncil.org/wp-content/uploads/202
 6/03/150x116-Yom-haatzmaut-2026.png
CATEGORIES:Israel,Yom Ha'atzmaut/Israeli Independence Day Celebration
LOCATION:Beth El Synagogue Center\, 1324 North Avenue\, New Rochelle\, NY\,
 10804\, United States
X-APPLE-STRUCTURED-LOCATION;VALUE=URI;X-ADDRESS=1324 North Avenue\, New
 Rochelle\, NY\, 10804\, United States;X-APPLE-RADIUS=100;X-TITLE=Beth El
 Synagogue Center:geo:0,0
END:VEVENT
BEGIN:VTIMEZONE
TZID:America/New_York
X-LIC-LOCATION:America/New_York
BEGIN:DAYLIGHT
DTSTART:20260308T030000
TZOFFSETFROM:-0500
TZOFFSETTO:-0400
TZNAME:EDT
END:DAYLIGHT
END:VTIMEZONE
END:VCALENDAR