BEGIN:VCALENDAR
VERSION:2.0
PRODID:-//wp-events-plugin.com//7.2.3.1//EN
TZID:America/New_York
X-WR-TIMEZONE:America/New_York
BEGIN:VEVENT
UID:4268@wjcouncil.org
DTSTART;TZID=America/New_York:20250219T201500
DTEND;TZID=America/New_York:20250219T211500
DTSTAMP:20250123T192442Z
URL:https://www.wjcouncil.org/events/yinr-womens-initiative-for-jewish-stu
 dies-to-bring-dr-lynn-kaye-via-zoom/
SUMMARY:YINR - Women’s Initiative for Jewish Studies to Bring Dr. Lynn
 Kaye via Zoom
DESCRIPTION:Women’s Initiative for Jewish Studies (WIJS) at Young Israel
 of New Rochelle is proud to present Dr. Lynn Kaye on Wednesday\, February
 19\, 2025 @ 8:15 pm (ET) on Zoom.  Kaye will be the sixth speaker of the
 2024-2025 season in the monthly scholarly programming offered by WIJS at
 YINR.\n\nDr. Kaye’s lecture is entitled\, “Dream Healing in the
 Talmud.”  Bad dreams shake people. The Babylonian Talmud describes
 several procedures that dreamers can take\, without an expert dream
 interpreter\, to heal. As part of this presentation\, we will learn from
 the tractate Berachot in the Talmud Bavli.\n\nDr. Lynn Kaye is Associate
 Professor of Rabbinic Literature and Thought at Brandeis University. She is
 the author of “Time in the Babylonian Talmud” (Cambridge University
 Press\, 2018) and co-editor of “Time: A Multidisciplinary Introduction”
 (Walter de Gruyter\, 2023). She is also the writer of numerous articles on
 Jewish law and thought\, and biblical and rabbinic studies. She is the
 recipient of a fellowship from the National Endowment for the Humanities
 for her current book project.\n\nAll WIJS programming is open to women and
 men.  Please visit https://www.yinr.org/wijs.html to view the complete
 WIJS 2024-25 schedule.  For more information\, to be added to the WIJS
 email list\, or for Zoom information\, please call 914-636-2215 or
 email: wijs@yinr.org.  Individuals on the WIJS mailing list will
 automatically receive the Zoom information.
CATEGORIES:Lecture
END:VEVENT
BEGIN:VTIMEZONE
TZID:America/New_York
X-LIC-LOCATION:America/New_York
BEGIN:STANDARD
DTSTART:20241103T010000
TZOFFSETFROM:-0400
TZOFFSETTO:-0500
TZNAME:EST
END:STANDARD
END:VTIMEZONE
END:VCALENDAR