BEGIN:VCALENDAR
VERSION:2.0
PRODID:-//wp-events-plugin.com//7.2.3.1//EN
TZID:America/New_York
X-WR-TIMEZONE:America/New_York
BEGIN:VEVENT
UID:4537@wjcouncil.org
DTSTART;TZID=America/New_York:20260428T193000
DTEND;TZID=America/New_York:20260428T193000
DTSTAMP:20260323T161812Z
URL:https://www.wjcouncil.org/events/westchester-jewish-council-julian-y-b
 ernstein-distinguished-service-awards-4/
SUMMARY:Westchester Jewish Council - Julian Y. Bernstein Distinguished
 Service Awards
DESCRIPTION: \n\nREGISTER HERE.\n\nTo place a congratulatory message in the
 JYBDSA Program or to make an anonymous donation\, please visit
 https://www.wjcouncil.org/donate-now/.
ATTACH;FMTTYPE=image/jpeg:https://www.wjcouncil.org/wp-content/uploads/202
 5/06/1-3.jpg
CATEGORIES:Featured,WJC Events
END:VEVENT
BEGIN:VTIMEZONE
TZID:America/New_York
X-LIC-LOCATION:America/New_York
BEGIN:DAYLIGHT
DTSTART:20260308T030000
TZOFFSETFROM:-0500
TZOFFSETTO:-0400
TZNAME:EDT
END:DAYLIGHT
END:VTIMEZONE
END:VCALENDAR