BEGIN:VCALENDAR
VERSION:2.0
PRODID:-//wp-events-plugin.com//7.2.3.1//EN
TZID:America/New_York
X-WR-TIMEZONE:America/New_York
BEGIN:VEVENT
UID:4076@wjcouncil.org
DTSTART;TZID=America/New_York:20241110T120000
DTEND;TZID=America/New_York:20241110T130000
DTSTAMP:20241030T172438Z
URL:https://www.wjcouncil.org/events/westchester-jewish-center-bake-sale-f
 or-israel-fundraiser-for-kibbutz-reim/
SUMMARY:Westchester Jewish Center - Bake Sale for Israel - Fundraiser for
 Kibbutz Re'im
DESCRIPTION:Please join us to support a very special Bake Sale for Israel -
 benefitting the Civilian Security Committee of Kibbutz Re’im.\nWhere:
 Front entrance of WJC 175 Rockland Ave\, Mamaroneck\, NY\nWhen: Sunday Nov
 10\n12pm -1pm Purchase yummy treats and baked goods! All proceeds/
 donations will be tripled thanks to the contributions of 2 WJC
 families.\n10am (drop off packaged baked goods): If you would like to
 donate packaged baked goods\, please drop them off at 10am. They must be
 nut-free and have only kosher ingredients.\nWhy: We are raising money for
 the  Civilian Security Committee of Kibbutz Re'im. P24 is an incredible
 endeavor\, bringing the emergency team members and their families to
 Westchester. WJC and Shaarei Tikvah of Scarsdale have the honor of hosting
 families from Kibbutz Re’im\, one of the hardest hit kibbutzim on October
 7. The 46 kibbutzniks from 12 families will fly to New York to be hosted by
 families and individuals in our community and to attend a special gala in
 their honor. We are fundraising to cover the costs of the trip for these
 extraordinary individuals.\nDonations: If you can’t make it\, but would
 like to contribute\, please Venmo @MandelMia. Thank you in advance for
 supporting these Israeli heroes.
CATEGORIES:Israel,Israel at War
END:VEVENT
BEGIN:VTIMEZONE
TZID:America/New_York
X-LIC-LOCATION:America/New_York
BEGIN:STANDARD
DTSTART:20241103T010000
TZOFFSETFROM:-0400
TZOFFSETTO:-0500
TZNAME:EST
END:STANDARD
END:VTIMEZONE
END:VCALENDAR