BEGIN:VCALENDAR
VERSION:2.0
PRODID:-//wp-events-plugin.com//7.2.3.1//EN
TZID:America/New_York
X-WR-TIMEZONE:America/New_York
BEGIN:VEVENT
UID:4012@wjcouncil.org
DTSTART;TZID=America/New_York:20241205T083000
DTEND;TZID=America/New_York:20241205T100000
DTSTAMP:20241106T181154Z
URL:https://www.wjcouncil.org/events/westchester-county-schools-handing-co
 mplicated-communications-issues/
SUMMARY:Westchester County Schools - Handing Complicated Communications &
 Issues
DESCRIPTION:Part of the Addressing Antisemitism in the Westchester County
 Public Schools Initiative\n\nGathering #1
CATEGORIES:WJC Events
END:VEVENT
BEGIN:VTIMEZONE
TZID:America/New_York
X-LIC-LOCATION:America/New_York
BEGIN:STANDARD
DTSTART:20241103T010000
TZOFFSETFROM:-0400
TZOFFSETTO:-0500
TZNAME:EST
END:STANDARD
END:VTIMEZONE
END:VCALENDAR