BEGIN:VCALENDAR
VERSION:2.0
PRODID:-//wp-events-plugin.com//7.2.3.1//EN
TZID:America/New_York
X-WR-TIMEZONE:America/New_York
BEGIN:VEVENT
UID:4857@wjcouncil.org
DTSTART;TZID=America/New_York:20260426T150000
DTEND;TZID=America/New_York:20260426T170000
DTSTAMP:20260412T142809Z
URL:https://www.wjcouncil.org/events/westchester-celebrates-israel-at-78-c
 ounty-wide-celebration/
SUMMARY:Westchester Celebrates Israel at 78 - County Wide Celebration
DESCRIPTION:Location shared upon registration
ATTACH;FMTTYPE=image/jpeg:https://www.wjcouncil.org/wp-content/uploads/202
 6/04/Flyer-Yom-Haatzmaut-2026-Westchester-11.jpg
CATEGORIES:Yom Ha'atzmaut/Israeli Independence Day Celebration
END:VEVENT
BEGIN:VTIMEZONE
TZID:America/New_York
X-LIC-LOCATION:America/New_York
BEGIN:DAYLIGHT
DTSTART:20260308T030000
TZOFFSETFROM:-0500
TZOFFSETTO:-0400
TZNAME:EDT
END:DAYLIGHT
END:VTIMEZONE
END:VCALENDAR