BEGIN:VCALENDAR
VERSION:2.0
PRODID:-//wp-events-plugin.com//7.2.3.1//EN
TZID:America/New_York
X-WR-TIMEZONE:America/New_York
BEGIN:VEVENT
UID:4364@wjcouncil.org
DTSTART;TZID=America/New_York:20250326T200000
DTEND;TZID=America/New_York:20250326T210000
DTSTAMP:20250312T172321Z
URL:https://www.wjcouncil.org/events/tzofim-israeli-scouts-in-westchester-
 online-info-session/
SUMMARY:Tzofim (Israeli Scouts) in Westchester: Online Info Session
DESCRIPTION:\n\nTzofim (Israeli Scouts) in Westchester: Online Info
 Session\n\nWe are exploring the possibility of launching a Tzofim chapter
 at the JCCMW. To make this a reality\, we need a strong community of
 interested families. If you have Hebrew-speaking children ages 8–16\,
 join us on Zoom to learn more about the potential programming and help us
 gauge interest in building a chapter. Please spread the word to friends who
 may be interested! If you are interested but cannot make this session\,
 please contact Rabbi Dahlia Bernstein at bernsteind@jccmw.org.\n\nRSVP at
 jccmw.org/tzofim-infoWednesday
ATTACH;FMTTYPE=image/jpeg:https://www.wjcouncil.org/wp-content/uploads/202
 5/03/Tzofim-in-Westchester-Info-Session.jpg
CATEGORIES:Featured
END:VEVENT
BEGIN:VTIMEZONE
TZID:America/New_York
X-LIC-LOCATION:America/New_York
BEGIN:DAYLIGHT
DTSTART:20250309T030000
TZOFFSETFROM:-0500
TZOFFSETTO:-0400
TZNAME:EDT
END:DAYLIGHT
END:VTIMEZONE
END:VCALENDAR