BEGIN:VCALENDAR
VERSION:2.0
PRODID:-//wp-events-plugin.com//7.2.3.1//EN
TZID:America/New_York
X-WR-TIMEZONE:America/New_York
BEGIN:VEVENT
UID:3711@wjcouncil.org
DTSTART;TZID=America/New_York:20240407T150000
DTEND;TZID=America/New_York:20240407T163000
DTSTAMP:20240403T185837Z
URL:https://www.wjcouncil.org/events/the-jewish-community-center-of-harris
 on-welcomes-county-executive-george-latimer/
SUMMARY:The Jewish Community Center of Harrison welcomes County Executive\,
 George Latimer
DESCRIPTION:RSVP is required\,
 https://docs.google.com/forms/d/e/1FAIpQLSdFCoDt-5RR30TflhV378fUqOO-6b3BRCX
 OT1w14zjJUDW_zQ/viewform
ATTACH;FMTTYPE=image/jpeg:https://www.wjcouncil.org/wp-content/uploads/202
 4/04/GL-flyer-final-electronic-pdf.jpg
CATEGORIES:Government,Israel
END:VEVENT
BEGIN:VTIMEZONE
TZID:America/New_York
X-LIC-LOCATION:America/New_York
BEGIN:DAYLIGHT
DTSTART:20240310T030000
TZOFFSETFROM:-0500
TZOFFSETTO:-0400
TZNAME:EDT
END:DAYLIGHT
END:VTIMEZONE
END:VCALENDAR