BEGIN:VCALENDAR
VERSION:2.0
PRODID:-//wp-events-plugin.com//7.2.3.1//EN
TZID:America/New_York
X-WR-TIMEZONE:America/New_York
BEGIN:VEVENT
UID:4048@wjcouncil.org
DTSTART;TZID=America/New_York:20241103T160000
DTEND;TZID=America/New_York:20241103T180000
DTSTAMP:20241010T135053Z
URL:https://www.wjcouncil.org/events/the-daffodil-project-kristallnacht-co
 mmemoration-2/
SUMMARY:The Daffodil Project - Kristallnacht Commemoration
DESCRIPTION:
ATTACH;FMTTYPE=image/jpeg:https://www.wjcouncil.org/wp-content/uploads/202
 4/10/Daffodil-project-11-3.jpg
CATEGORIES:Holocaust
LOCATION:Playhouse Plaza Park\, located on Palmer Ave across from Hunan
 Larchmont\, Larchmont\, New York\, 10538\, United States
X-APPLE-STRUCTURED-LOCATION;VALUE=URI;X-ADDRESS=located on Palmer Ave
 across from Hunan Larchmont\, Larchmont\, New York\, 10538\, United
 States;X-APPLE-RADIUS=100;X-TITLE=Playhouse Plaza Park:geo:0,0
END:VEVENT
BEGIN:VTIMEZONE
TZID:America/New_York
X-LIC-LOCATION:America/New_York
BEGIN:STANDARD
DTSTART:20241103T010000
TZOFFSETFROM:-0400
TZOFFSETTO:-0500
TZNAME:EST
END:STANDARD
END:VTIMEZONE
END:VCALENDAR