BEGIN:VCALENDAR
VERSION:2.0
PRODID:-//wp-events-plugin.com//7.2.3.1//EN
TZID:America/New_York
X-WR-TIMEZONE:America/New_York
BEGIN:VEVENT
UID:4990@wjcouncil.org
DTSTART;TZID=America/New_York:20260425T190000
DTEND;TZID=America/New_York:20260425T230000
DTSTAMP:20260309T155039Z
URL:https://www.wjcouncil.org/events/temple-beth-abraham-annual-gala/
SUMMARY:Temple Beth Abraham Annual Gala
DESCRIPTION:This gala will be honoring Rabbi David K. Holtz for his 33
 years of service\, leadership and dedication to the synagogue.\n\nReserve
 your ad in the Gala Journal - https://tba-ny.org/annual-gala.
CATEGORIES:Gala
END:VEVENT
BEGIN:VTIMEZONE
TZID:America/New_York
X-LIC-LOCATION:America/New_York
BEGIN:DAYLIGHT
DTSTART:20260308T030000
TZOFFSETFROM:-0500
TZOFFSETTO:-0400
TZNAME:EDT
END:DAYLIGHT
END:VTIMEZONE
END:VCALENDAR