BEGIN:VCALENDAR
VERSION:2.0
PRODID:-//wp-events-plugin.com//7.2.3.1//EN
TZID:America/New_York
X-WR-TIMEZONE:America/New_York
BEGIN:VEVENT
UID:3735@wjcouncil.org
DTSTART;TZID=America/New_York:20240430T090000
DTEND;TZID=America/New_York:20240430T120000
DTSTAMP:20240416T135039Z
URL:https://www.wjcouncil.org/events/tba-conservative-passover-8th-day-ser
 vice-with-yizkor/
SUMMARY:TBA - Conservative Passover (8th Day) Service with Yizkor
DESCRIPTION:Join Temple Beth Abraham for worship in the Conservative
 tradition on the first and last days of Passover.\n\nYizkor\, the prayer of
 remembrance\, will be said on the eighth day.
ATTACH;FMTTYPE=image/jpeg:https://www.wjcouncil.org/wp-content/uploads/202
 4/04/happy-passover-1.jpeg
CATEGORIES:Jewish Holidays,Passover,Shabbat/Holidays
LOCATION:Temple Beth Abraham\, 25 Leroy Avenue\, Tarrytown\, NY\, 10591\,
 Westchester\, United States
X-APPLE-STRUCTURED-LOCATION;VALUE=URI;X-ADDRESS=25 Leroy Avenue\,
 Tarrytown\, NY\, 10591\, Westchester\, United
 States;X-APPLE-RADIUS=100;X-TITLE=Temple Beth Abraham:geo:0,0
END:VEVENT
BEGIN:VTIMEZONE
TZID:America/New_York
X-LIC-LOCATION:America/New_York
BEGIN:DAYLIGHT
DTSTART:20240310T030000
TZOFFSETFROM:-0500
TZOFFSETTO:-0400
TZNAME:EDT
END:DAYLIGHT
END:VTIMEZONE
END:VCALENDAR