BEGIN:VCALENDAR
VERSION:2.0
PRODID:-//wp-events-plugin.com//7.2.3.1//EN
TZID:America/New_York
X-WR-TIMEZONE:America/New_York
BEGIN:VEVENT
UID:3483@wjcouncil.org
DTSTART;TZID=America/New_York:20240403T183000
DTEND;TZID=America/New_York:20240403T213000
DTSTAMP:20240328T163236Z
URL:https://www.wjcouncil.org/events/suny-purchase-hherec-and-westchester-
 jewish-council-jewish-literacy-initiative-showing-of-tiger-within-film/
SUMMARY:Westchester Jewish Council Jewish Literacy Initiative in
 partnership with Purchase College showing of "Tiger Within" Film
DESCRIPTION:Film Screening co-sponsored by the Holocaust and Human Rights
 Education Center
ATTACH;FMTTYPE=image/jpeg:https://www.wjcouncil.org/wp-content/uploads/202
 3/10/Spring-2024-Series-Purchase-20242.png
CATEGORIES:WJC Events
END:VEVENT
BEGIN:VTIMEZONE
TZID:America/New_York
X-LIC-LOCATION:America/New_York
BEGIN:DAYLIGHT
DTSTART:20240310T030000
TZOFFSETFROM:-0500
TZOFFSETTO:-0400
TZNAME:EDT
END:DAYLIGHT
END:VTIMEZONE
END:VCALENDAR