BEGIN:VCALENDAR
VERSION:2.0
PRODID:-//wp-events-plugin.com//7.2.3.1//EN
TZID:America/New_York
X-WR-TIMEZONE:America/New_York
BEGIN:VEVENT
UID:3371@wjcouncil.org
DTSTART;TZID=America/New_York:20240312T190000
DTEND;TZID=America/New_York:20240312T200000
DTSTAMP:20231218T192202Z
URL:https://www.wjcouncil.org/events/suny-purchase-and-westchester-jewish-
 council-jewish-literacy-initiative-lecture-with-professor-hayes/
SUMMARY:Suny Purchase and Westchester Jewish Council Jewish Literacy
 Initiative Lecture with Professor Hayes - "Humor and Play in Ancient
 Rabbinic Literature"
DESCRIPTION:More details to follow
ATTACH;FMTTYPE=image/jpeg:https://www.wjcouncil.org/wp-content/uploads/202
 3/10/Spring-2024-Series-Purchase-20242.png
CATEGORIES:WJC Events
END:VEVENT
BEGIN:VTIMEZONE
TZID:America/New_York
X-LIC-LOCATION:America/New_York
BEGIN:DAYLIGHT
DTSTART:20240310T030000
TZOFFSETFROM:-0500
TZOFFSETTO:-0400
TZNAME:EDT
END:DAYLIGHT
END:VTIMEZONE
END:VCALENDAR