BEGIN:VCALENDAR
VERSION:2.0
PRODID:-//wp-events-plugin.com//7.2.3.1//EN
TZID:America/New_York
X-WR-TIMEZONE:America/New_York
BEGIN:VEVENT
UID:4173@wjcouncil.org
DTSTART;TZID=America/New_York:20241208T190000
DTEND;TZID=America/New_York:20241208T200000
DTSTAMP:20241205T174537Z
URL:https://www.wjcouncil.org/events/speaker-at-yinr-magen-48-the-israeli-
 spirit-of-defiance-innovation-and-preparedness/
SUMMARY:Speaker at YINR: Magen 48 The Israeli Spirit of Defiance\,
 Innovation and Preparedness
DESCRIPTION:Young Israel of New Rochelle\n\nSunday\, December 8 at
 7:00pm\n\nMagen 48\n\nThe Israeli Spirit of Defiance\, Innovation and
 Preparedness\n\nAri Briggs and Ehud Dribben\, 2 heroes share remarkable
 stories of resilience on 10/7 and their plan for practively preventing
 future disasters.
CATEGORIES:Israel
LOCATION:Young Israel of New Rochelle\, 1149 North Avenue\, New Rochelle\,
 NY\, 10804\, United States
X-APPLE-STRUCTURED-LOCATION;VALUE=URI;X-ADDRESS=1149 North Avenue\, New
 Rochelle\, NY\, 10804\, United States;X-APPLE-RADIUS=100;X-TITLE=Young
 Israel of New Rochelle:geo:0,0
END:VEVENT
BEGIN:VTIMEZONE
TZID:America/New_York
X-LIC-LOCATION:America/New_York
BEGIN:STANDARD
DTSTART:20241103T010000
TZOFFSETFROM:-0400
TZOFFSETTO:-0500
TZNAME:EST
END:STANDARD
END:VTIMEZONE
END:VCALENDAR