BEGIN:VCALENDAR
VERSION:2.0
PRODID:-//wp-events-plugin.com//7.2.3.1//EN
TZID:America/New_York
X-WR-TIMEZONE:America/New_York
BEGIN:VEVENT
UID:3746@wjcouncil.org
DTSTART;TZID=America/New_York:20240502T193000
DTEND;TZID=America/New_York:20240502T210000
DTSTAMP:20240419T171002Z
URL:https://www.wjcouncil.org/events/pcs-author-book-presentation-and-disc
 ussion/
SUMMARY:PCS - Author/book presentation and discussion
DESCRIPTION:Pleasantville Community Synagogue is proud to present an
 evening with Keren Blankfeld\, award-winning journalist and acclaimed
 author of "Lovers in Auschwitz - A True Story."\n\nBooks are available at
 The Village Bookstore in Pleasantville and for signing at the event.\n\nGet
 tickets through EventBrite: https://tinyurl.com/yjj44zm4\n\nFor more
 information or to RSVP\, contact PCS at info@shalompcs.com\;
 914-769-2672.\n\n&nbsp\;
ATTACH;FMTTYPE=image/jpeg:https://www.wjcouncil.org/wp-content/uploads/202
 4/04/logo-without-bg.BN_.png
CATEGORIES:Cultural,Holocaust,Lecture
LOCATION:Pleasantville Community Synagogue\, 219 Bedford Road\,
 Pleasantville\, New York\, 10570\, Westchester\, United States
X-APPLE-STRUCTURED-LOCATION;VALUE=URI;X-ADDRESS=219 Bedford Road\,
 Pleasantville\, New York\, 10570\, Westchester\, United
 States;X-APPLE-RADIUS=100;X-TITLE=Pleasantville Community Synagogue:geo:0,0
END:VEVENT
BEGIN:VTIMEZONE
TZID:America/New_York
X-LIC-LOCATION:America/New_York
BEGIN:DAYLIGHT
DTSTART:20240310T030000
TZOFFSETFROM:-0500
TZOFFSETTO:-0400
TZNAME:EDT
END:DAYLIGHT
END:VTIMEZONE
END:VCALENDAR