BEGIN:VCALENDAR
VERSION:2.0
PRODID:-//wp-events-plugin.com//7.2.3.1//EN
TZID:America/New_York
X-WR-TIMEZONE:America/New_York
BEGIN:VEVENT
UID:5014@wjcouncil.org
DTSTART;TZID=America/New_York:20260412T140000
DTEND;TZID=America/New_York:20260412T153000
DTSTAMP:20260331T124441Z
URL:https://www.wjcouncil.org/events/lights-of-tomorrow-an-afternoon-of-ho
 pe-and-advocacy-a-conversation-with-a-nova-survivor/
SUMMARY:Lights of Tomorrow - An Afternoon of Hope and Advocacy: A
 Conversation with a Nova Survivor
DESCRIPTION:
ATTACH;FMTTYPE=image/jpeg:https://www.wjcouncil.org/wp-content/uploads/202
 6/03/Lights-of-Tomorrowm4-12.png
CATEGORIES:Israel
END:VEVENT
BEGIN:VTIMEZONE
TZID:America/New_York
X-LIC-LOCATION:America/New_York
BEGIN:DAYLIGHT
DTSTART:20260308T030000
TZOFFSETFROM:-0500
TZOFFSETTO:-0400
TZNAME:EDT
END:DAYLIGHT
END:VTIMEZONE
END:VCALENDAR