BEGIN:VCALENDAR
VERSION:2.0
PRODID:-//wp-events-plugin.com//7.2.3.1//EN
TZID:America/New_York
X-WR-TIMEZONE:America/New_York
BEGIN:VEVENT
UID:4073@wjcouncil.org
DTSTART;TZID=America/New_York:20241109T193000
DTEND;TZID=America/New_York:20241109T213000
DTSTAMP:20241029T184625Z
URL:https://www.wjcouncil.org/events/jccmw-comedy-night-out/
SUMMARY:JCCMW - Comedy Night Out
DESCRIPTION:Join us for a night of laughter at Comedy Night Out\, curated
 by local Larchmont mom and comedy sensation Alyce Chan of the immensely
 popular parenting platform MomComNYC! Expect a hilarious evening as Alyce
 brings her sharp wit and parenting humor to the stage\, along with a
 powerhouse lineup of comedians*!\n\n&nbsp\;\n\nBoston-born and
 Brooklyn-based\, Kendra Cunningham brings a fresh take on comedy with her
 background in forensic psychology and filmmaking. Her sharp observational
 humor has been featured in Time Out New York\, and she spends most of her
 time wondering where the hell her sugar daddy is and hoping he didn’t
 settle.\n\nA regular at NYC’s most iconic comedy clubs\, including the
 Comedy Cellar and Gotham Comedy Club\, Jon Fisch has been featured on both
 The Late Show with David Letterman and The Late Show with Stephen
 Colbert. His wit and observational humor have made him a standout standup
 at multiple comedy festivals\, including the HBO Comedy Arts Festival\, and
 on Comedy Central.\n\nAn award-winning comedian with a background as a
 tenured law professor\, Liz Glazer brings sharp wit and personal stories
 about her life as a lesbian and rabbi’s wife to the stage. She’s been
 featured in comedy festivals across the country and appeared on the
 television shows For Life and Bull.\n\n&nbsp\;\n\n*Comedians subject to
 change.
CATEGORIES:Community,Entertainment
LOCATION:JCC Mid-Westchester\, 999 Wilmot Road\, Scarsdale\, NY\, 10583\,
 United States
X-APPLE-STRUCTURED-LOCATION;VALUE=URI;X-ADDRESS=999 Wilmot Road\,
 Scarsdale\, NY\, 10583\, United States;X-APPLE-RADIUS=100;X-TITLE=JCC
 Mid-Westchester:geo:0,0
END:VEVENT
BEGIN:VTIMEZONE
TZID:America/New_York
X-LIC-LOCATION:America/New_York
BEGIN:STANDARD
DTSTART:20241103T010000
TZOFFSETFROM:-0400
TZOFFSETTO:-0500
TZNAME:EST
END:STANDARD
END:VTIMEZONE
END:VCALENDAR