BEGIN:VCALENDAR
VERSION:2.0
PRODID:-//wp-events-plugin.com//7.2.3.1//EN
TZID:America/New_York
X-WR-TIMEZONE:America/New_York
BEGIN:VEVENT
UID:3761@wjcouncil.org
DTSTART;TZID=America/New_York:20240507T190000
DTEND;TZID=America/New_York:20240507T203000
DTSTAMP:20240507T152605Z
URL:https://www.wjcouncil.org/events/jccmw-capturing-the-spark-of-robin-wi
 lliams-film-screening-panel-discussion/
SUMMARY:JCCMW - Capturing the SPARK of Robin Williams: Film Screening &
 Panel Discussion
DESCRIPTION:We invite you to join us for a special viewing of the
 film SPARK: Robin Williams and His Battle with Lewy Body Dementia.
 SPARK is a 45-minute educational adaptation of the documentary Robin’s
 Wish\, produced by Lewy Body Disease Association\, which delves into the
 life of Robin Williams and his courageous battle with LBD\, a complex and
 often underdiagnosed condition that affects both cognitive and motor
 functions.\n\nThe screening will be followed by a panel discussion and
 Q&amp\;A with David Zucker\, Alzheimer’s Association Hudson Valley\, NY
 Chapter\, and Dr. Jason Cohen.\n\nRefreshments will be
 served.\n\nAdmission: $18\nFree for Members\n\nRegister
 here\n\nComplimentary transportation is available if needed. Contact
 Natalie\, our connection specialist\, at pitheckoffn@jccmw.org or (914)
 725-7300 x953\, for more information.\n\nAbout the Panelists\nDr. Jason A.
 Cohen is a neurologist based in Yonkers\, New York\, affiliated
 with Montefiore Medical Center. Dr. Cohen specializes in the diagnosis and
 treatment of brain and nervous system disorders. His clinical focus
 includes caring for older adults with cognitive impairment\, including
 conditions like Alzheimer’s Disease\, Vascular Dementia\, Lewy Body
 Dementia\, and Frontotemporal Dementia. Dr. Cohen’s research interests
 center around frontotemporal dementia and the relationship between gait
 (walking patterns) and cognitive impairment.\n\nDavid Zucker is the
 Westchester Community Engagement Manager of the Alzheimer’s Association
 Hudson Valley\, NY Chapter.
CATEGORIES:Film,Lecture
LOCATION:JCC Mid-Westchester\, 999 Wilmot Road\, Scarsdale\, NY\, 10583\,
 United States
X-APPLE-STRUCTURED-LOCATION;VALUE=URI;X-ADDRESS=999 Wilmot Road\,
 Scarsdale\, NY\, 10583\, United States;X-APPLE-RADIUS=100;X-TITLE=JCC
 Mid-Westchester:geo:0,0
END:VEVENT
BEGIN:VTIMEZONE
TZID:America/New_York
X-LIC-LOCATION:America/New_York
BEGIN:DAYLIGHT
DTSTART:20240310T030000
TZOFFSETFROM:-0500
TZOFFSETTO:-0400
TZNAME:EDT
END:DAYLIGHT
END:VTIMEZONE
END:VCALENDAR