BEGIN:VCALENDAR
VERSION:2.0
PRODID:-//wp-events-plugin.com//7.2.3.1//EN
TZID:America/New_York
X-WR-TIMEZONE:America/New_York
BEGIN:VEVENT
UID:3921@wjcouncil.org
DTSTART;TZID=America/New_York:20241107T190000
DTEND;TZID=America/New_York:20241107T220000
DTSTAMP:20240829T161513Z
URL:https://www.wjcouncil.org/events/hold-for-ajc-westchester-fairfield-ga
 la/
SUMMARY:AJC Westchester/Fairfield Gala
DESCRIPTION:
CATEGORIES:Gala
END:VEVENT
BEGIN:VTIMEZONE
TZID:America/New_York
X-LIC-LOCATION:America/New_York
BEGIN:STANDARD
DTSTART:20241103T010000
TZOFFSETFROM:-0400
TZOFFSETTO:-0500
TZNAME:EST
END:STANDARD
END:VTIMEZONE
END:VCALENDAR