BEGIN:VCALENDAR
VERSION:2.0
PRODID:-//wp-events-plugin.com//7.2.3.1//EN
TZID:America/New_York
X-WR-TIMEZONE:America/New_York
BEGIN:VEVENT
UID:4536@wjcouncil.org
DTSTART;TZID=America/New_York:20260414T120000
DTEND;TZID=America/New_York:20260414T130000
DTSTAMP:20260310T155513Z
URL:https://www.wjcouncil.org/events/hhrec-and-westchester-jewish-council-
 countywide-yom-hashoah-commemoration/
SUMMARY:HHREC and Westchester Jewish Council - Countywide Yom Hashoah
 Commemoration
DESCRIPTION:
ATTACH;FMTTYPE=image/jpeg:https://www.wjcouncil.org/wp-content/uploads/202
 5/06/2026-Yom-Hashoah-1.jpg
CATEGORIES:Featured,Holocaust
END:VEVENT
BEGIN:VTIMEZONE
TZID:America/New_York
X-LIC-LOCATION:America/New_York
BEGIN:DAYLIGHT
DTSTART:20260308T030000
TZOFFSETFROM:-0500
TZOFFSETTO:-0400
TZNAME:EDT
END:DAYLIGHT
END:VTIMEZONE
END:VCALENDAR