BEGIN:VCALENDAR
VERSION:2.0
PRODID:-//wp-events-plugin.com//7.2.3.1//EN
TZID:America/New_York
X-WR-TIMEZONE:America/New_York
BEGIN:VEVENT
UID:3665@wjcouncil.org
DTSTART;TZID=America/New_York:20240516T190000
DTEND;TZID=America/New_York:20240516T200000
DTSTAMP:20240319T143525Z
URL:https://www.wjcouncil.org/events/hhrec-agi-keleti-the-jewish-olympians
 -story-of-survival-and-triumph-exhibit-and-speaker-michael-gyory/
SUMMARY:HHREC - Agi Keleti: The Jewish Olympian’s Story of Survival and
 Triumph – Exhibit and Speaker Michael Gyory
DESCRIPTION:This event sponsored by the Ossining Public Library and HHREC
 will feature a presentation by HHREC Board Chairperson and
 GenerationsForward Speaker Michael Gyory on the oldest living Olympian and
 Holocaust survivor\, Agi Keleti\, his father’s cousin.\n\nAgi Keleti: The
 Jewish Olympian’s Story of Survival and Triumph is a very special
 exhibition that offers compelling insight into the story of a young
 girl’s survival during the Holocaust and incredible drive to leave a
 legacy of courage\, strength and will to win.\n\nBorn in Budapest\,
 Hungary\, on January 9\, 1921\, Keleti’s journey is a tale of
 accomplishments. Her athletic prowess led her to win five Olympic gold
 medals. She first captured gold in Helsinki in 1952 and followed that with
 an astounding four golds in Melbourne in 1956.\n\nThis exhibit of 6
 individual panels chronicle her life story as she survived the Nazis and
 outlasted the Communists to become the greatest female Jewish Olympian of
 all time and today\, she is the oldest living Olympic medalist.  Listen
 how Agi survived the Nazis and outlasted the Communists to become the
 greatest female Jewish Olympian of all time winning 10 metals in women’s
 gymnastics for her native Hungary.
ATTACH;FMTTYPE=image/jpeg:https://www.wjcouncil.org/wp-content/uploads/202
 4/03/Ossining-Library-logo.png
END:VEVENT
BEGIN:VTIMEZONE
TZID:America/New_York
X-LIC-LOCATION:America/New_York
BEGIN:DAYLIGHT
DTSTART:20240310T030000
TZOFFSETFROM:-0500
TZOFFSETTO:-0400
TZNAME:EDT
END:DAYLIGHT
END:VTIMEZONE
END:VCALENDAR