BEGIN:VCALENDAR
VERSION:2.0
PRODID:-//wp-events-plugin.com//7.2.3.1//EN
TZID:America/New_York
X-WR-TIMEZONE:America/New_York
BEGIN:VEVENT
UID:3856@wjcouncil.org
DTSTART;TZID=America/New_York:20240718T183000
DTEND;TZID=America/New_York:20240718T193000
DTSTAMP:20240709T164528Z
URL:https://www.wjcouncil.org/events/hhrec-agi-keleti-the-jewish-olympians
 -story-of-survival-and-triumph-exhibit-and-speaker-michael-gyory-2/
SUMMARY:HHREC - Agi Keleti: The Jewish Olympian’s Story of Survival and
 Triumph – Exhibit and Speaker Michael Gyory
DESCRIPTION:On Thursday\, July 18th the Holocaust &amp\; Human Rights
 Education Center (HHREC) in partnership with the Desmond-Fish Public
 Library in Garrison\, NY will host a talk and presentation on the oldest
 living Olympian Champion and Holocaust survivor. Agi Keleti: The Jewish
 Olympian’s Story of Survival and Triumph will be presented by HHREC
 Board Chairperson and GenerationsForward Speaker Michael Gyory.\n\nBorn in
 Budapest\, Hungary\, on January 9\, 1921\, Keleti’s journey is a tale of
 courage\, survival and historic accomplishments. She survived the Nazis and
 outlasted the Communists to become the greatest female Jewish Olympian of
 all time winning 10 metals in women’s gymnastics for her native
 Hungary.\n\nThe program will also feature an exhibition that illustrates
 the story of a young girl’s survival during the Holocaust and drive to
 leave a legacy of courage\, strength and will to win. This exhibit of 6
 individual panels chronicle her life story.\n\n“I am looking forward to
 sharing the amazing story of survival and success of my father’s
 cousin.” said Gyory. “With the upcoming Olympic Games this summer\, I
 hope to shine a light on how she set an example for generations of aspiring
 athletes to pursue their dreams\, and overcome any hardship or hurdles they
 meet along the way.”\n\nThe program will commence at 6:30pm\, and the
 event is free and open to the public. For more information visit the HHREC
 events page at   hhrecny.org  and register in advance
 at https://desmondfishlibrary.org/event/agi-keleti-the-jewish-olympians-st
 ory-of-survival-and-triumph-exhibit-and-speaker-michael-gyory/
CATEGORIES:Exhibition
END:VEVENT
BEGIN:VTIMEZONE
TZID:America/New_York
X-LIC-LOCATION:America/New_York
BEGIN:DAYLIGHT
DTSTART:20240310T030000
TZOFFSETFROM:-0500
TZOFFSETTO:-0400
TZNAME:EDT
END:DAYLIGHT
END:VTIMEZONE
END:VCALENDAR