BEGIN:VCALENDAR
VERSION:2.0
PRODID:-//wp-events-plugin.com//7.2.3.1//EN
TZID:America/New_York
X-WR-TIMEZONE:America/New_York
BEGIN:VEVENT
UID:3852@wjcouncil.org
DTSTART;TZID=America/New_York:20240713T103000
DTEND;TZID=America/New_York:20240713T120000
DTSTAMP:20240708T171049Z
URL:https://www.wjcouncil.org/events/greenburgh-hebrew-center-mishpacha-sh
 abbat/
SUMMARY:Greenburgh Hebrew Center - Mishpacha Shabbat
DESCRIPTION:Join Ilana at Mishpacha Shabbat for some praying and singing\,
 moving and grooving. We will explore Torah stories\, roleplay\, and make a
 craft. While the service is geared for children 6 and younger\, all are
 welcome for Mishpacha Shabbat and kiddush lunch following. Let's revel in
 the Shabbat feeling and celebrate as a community. Questions\, comments\, or
 just excited to come? Email Ilana at ilana.m.goldstein@gmail.com\n\n&nbsp\;
ATTACH;FMTTYPE=image/jpeg:https://www.wjcouncil.org/wp-content/uploads/202
 4/07/ghc_logo11_bw-clear.png
CATEGORIES:Shabbat/Holidays
LOCATION:Greenburgh Hebrew Center\, 515 Broadway\, Dobbs Ferry\, NY\,
 10522\, United States
X-APPLE-STRUCTURED-LOCATION;VALUE=URI;X-ADDRESS=515 Broadway\, Dobbs
 Ferry\, NY\, 10522\, United States;X-APPLE-RADIUS=100;X-TITLE=Greenburgh
 Hebrew Center:geo:0,0
END:VEVENT
BEGIN:VTIMEZONE
TZID:America/New_York
X-LIC-LOCATION:America/New_York
BEGIN:DAYLIGHT
DTSTART:20240310T030000
TZOFFSETFROM:-0500
TZOFFSETTO:-0400
TZNAME:EDT
END:DAYLIGHT
END:VTIMEZONE
END:VCALENDAR