BEGIN:VCALENDAR
VERSION:2.0
PRODID:-//wp-events-plugin.com//7.2.3.1//EN
TZID:America/New_York
X-WR-TIMEZONE:America/New_York
BEGIN:VEVENT
UID:4309@wjcouncil.org
DTSTART;TZID=America/New_York:20250223T100000
DTEND;TZID=America/New_York:20250223T113000
DTSTAMP:20250213T150622Z
URL:https://www.wjcouncil.org/events/first-hebrew-jewish-culture-for-for-k
 ids-happy-birthday-trees-tu-bshevat/
SUMMARY:First Hebrew - Jewish Culture for for Kids – Happy Birthday
 Trees\, Tu B’Shevat
DESCRIPTION:\n\nJewish Culture for for Kids – Happy Birthday Trees\, Tu
 B’Shevat\n\nat First Hebrew Congregation\, 1821 Main St. Peekskill\,
 NY\n\nOn Sunday\, February 23\, 2025\n\n10 AM- 11:30 AM\n\nArts &amp\;
 crafts\, make snacks\, activities.\n\n6 years old &amp\; under –
 grandparents\, siblings\, relatives and friends are welcome.\n\nMust RSVP
 by Friday\, February 21 to: \n\nhttps://www.firsthebrew.org/ev...\n\n
CATEGORIES:Cultural,Jewish Holidays
LOCATION:https://www.firsthebrew.org/learn/jc4k/
END:VEVENT
BEGIN:VTIMEZONE
TZID:America/New_York
X-LIC-LOCATION:America/New_York
BEGIN:STANDARD
DTSTART:20241103T010000
TZOFFSETFROM:-0400
TZOFFSETTO:-0500
TZNAME:EST
END:STANDARD
END:VTIMEZONE
END:VCALENDAR