BEGIN:VCALENDAR
VERSION:2.0
PRODID:-//wp-events-plugin.com//7.2.3.1//EN
TZID:America/New_York
X-WR-TIMEZONE:America/New_York
BEGIN:VEVENT
UID:3876@wjcouncil.org
DTSTART;TZID=America/New_York:20241110T173000
DTEND;TZID=America/New_York:20241110T213000
DTSTAMP:20240730T152230Z
URL:https://www.wjcouncil.org/events/fidf-westchester-and-connecticut-even
 ing-of-solidarity-with-israel-soldiers/
SUMMARY:FIDF Westchester and Connecticut Evening of Solidarity with Israel
 Soldiers
DESCRIPTION:Please join us Sunday\, November 10th for our FIDF Westchester
 and Connecticut Evening of Solidarity with Israel Soldiers.
CATEGORIES:Dinner
END:VEVENT
BEGIN:VTIMEZONE
TZID:America/New_York
X-LIC-LOCATION:America/New_York
BEGIN:STANDARD
DTSTART:20241103T010000
TZOFFSETFROM:-0400
TZOFFSETTO:-0500
TZNAME:EST
END:STANDARD
END:VTIMEZONE
END:VCALENDAR