BEGIN:VCALENDAR
VERSION:2.0
PRODID:-//wp-events-plugin.com//7.2.3.1//EN
TZID:America/New_York
X-WR-TIMEZONE:America/New_York
BEGIN:VEVENT
UID:4985@wjcouncil.org
DTSTART;TZID=America/New_York:20260415T103000
DTEND;TZID=America/New_York:20260415T113000
DTSTAMP:20260305T224933Z
URL:https://www.wjcouncil.org/events/dorots-westchester-walk-at-crawford-p
 ark/
SUMMARY:DOROT's Westchester Walk at Crawford Park
DESCRIPTION:Join DOROT Westchester and enjoy the sights and sounds of
 spring as we stroll together on a paved 1 mile loop nature trail at
 Crawford Park.\n\nThis relaxed “walk &amp\; talk” pace is designed for
 socializing rather than exercise.\n\nPlease note that there is a hill along
 the route.\n\nThe walk will begin promptly\, so please arrive early or on
 time. Please bring a water bottle\, sunscreen\, and wear comfortable
 walking shoes.\n\nWe will meet in front of the Crawford Park Mansion near
 the parking area. Parking and admission are free.\n\nThis program is for
 adults 60+\n\nRegistration required with this link: Westchester Walk at
 Crawford Park - 2026-04-15 | DOROT\n\n&nbsp\;
CATEGORIES:Other
LOCATION:Crawford Park\, 122 N Ridge St.\, Rye Brook\, NY\, 10573\,
 Westchester\, United States
X-APPLE-STRUCTURED-LOCATION;VALUE=URI;X-ADDRESS=122 N Ridge St.\, Rye
 Brook\, NY\, 10573\, Westchester\, United
 States;X-APPLE-RADIUS=100;X-TITLE=Crawford Park:geo:0,0
END:VEVENT
BEGIN:VTIMEZONE
TZID:America/New_York
X-LIC-LOCATION:America/New_York
BEGIN:DAYLIGHT
DTSTART:20260308T030000
TZOFFSETFROM:-0500
TZOFFSETTO:-0400
TZNAME:EDT
END:DAYLIGHT
END:VTIMEZONE
END:VCALENDAR