BEGIN:VCALENDAR
VERSION:2.0
PRODID:-//wp-events-plugin.com//7.2.3.1//EN
TZID:America/New_York
X-WR-TIMEZONE:America/New_York
BEGIN:VEVENT
UID:4992@wjcouncil.org
DTSTART;TZID=America/New_York:20260422T130000
DTEND;TZID=America/New_York:20260527T143000
DTSTAMP:20260319T160012Z
URL:https://www.wjcouncil.org/events/dorots-aging-alone-together-program-o
 nline/
SUMMARY:DOROT’s Aging Alone Together® Program – Online!
DESCRIPTION:This six-week DOROT series is designed for individuals to build
 community as they learn\, discuss\, and reflect on the logistical and
 social challenges of aging with independence. You need not live alone or
 without family to participate in and benefit from this program. This
 program is offered without cost\, thanks to the generosity of the
 Westchester Men's Giving Circle\, UJA Federation.\n\nRegister\,
 https://dorotusa-org.zoom.us/meeting/register/TdWm62f2RHGRMACxKkCGUQ.
CATEGORIES:Meeting,Other
END:VEVENT
BEGIN:VTIMEZONE
TZID:America/New_York
X-LIC-LOCATION:America/New_York
BEGIN:DAYLIGHT
DTSTART:20260308T030000
TZOFFSETFROM:-0500
TZOFFSETTO:-0400
TZNAME:EDT
END:DAYLIGHT
END:VTIMEZONE
END:VCALENDAR