BEGIN:VCALENDAR
VERSION:2.0
PRODID:-//wp-events-plugin.com//7.2.3.1//EN
TZID:America/New_York
X-WR-TIMEZONE:America/New_York
BEGIN:VEVENT
UID:3675@wjcouncil.org
DTSTART;TZID=America/New_York:20240411T140000
DTEND;TZID=America/New_York:20240411T150000
DTSTAMP:20240322T175901Z
URL:https://www.wjcouncil.org/events/dorot-westchester-the-art-of-poetry/
SUMMARY:DOROT Westchester -The Art of Poetry
DESCRIPTION:DOROT Westchester invites adults 60+\n\nApril is National
 Poetry Month!\nLet’s bring the art of the written word to the decorative
 art of decoupage. Write your own original poem or choose a poem or quote
 that you admire\, then blend this with cutout images.\nSnacks will be
 served.\n\nRegistration is required.
CATEGORIES:Other
END:VEVENT
BEGIN:VTIMEZONE
TZID:America/New_York
X-LIC-LOCATION:America/New_York
BEGIN:DAYLIGHT
DTSTART:20240310T030000
TZOFFSETFROM:-0500
TZOFFSETTO:-0400
TZNAME:EDT
END:DAYLIGHT
END:VTIMEZONE
END:VCALENDAR