BEGIN:VCALENDAR
VERSION:2.0
PRODID:-//wp-events-plugin.com//7.2.3.1//EN
TZID:America/New_York
X-WR-TIMEZONE:America/New_York
BEGIN:VEVENT
UID:4160@wjcouncil.org
DTSTART;TZID=America/New_York:20241219T140000
DTEND;TZID=America/New_York:20241219T153000
DTSTAMP:20241203T172402Z
URL:https://www.wjcouncil.org/events/dorot-tables-and-tea-5/
SUMMARY:DOROT - Tables and Tea
DESCRIPTION:Connect and converse in small groups while playing the board
 game of your choice.\n\nWith Hanukkah\, Christmas and Kwanza all
 converging\, and New Year’s around the corner\, let’s
 celebrate!\n\nJoin DOROT for game playing and “dressed-up” hot
 chocolate – whipped cream\, marshmallows\, and cinnamon
 sticks.\n\nEveryone is invited to wear their favorite sparkles!\n\nSnacks
 will be served.\n\nThis program is for adults 60+\n\nRegistration required.
 Please complete this form:\n\nTables &amp\; Tea - Dec 2024
CATEGORIES:Other
LOCATION:DOROT Westchester\, 925 Westchester Ave\, White Plains\, NY\,
 10604\, Westchester\, United States
X-APPLE-STRUCTURED-LOCATION;VALUE=URI;X-ADDRESS=925 Westchester Ave\, White
 Plains\, NY\, 10604\, Westchester\, United
 States;X-APPLE-RADIUS=100;X-TITLE=DOROT Westchester:geo:0,0
END:VEVENT
BEGIN:VTIMEZONE
TZID:America/New_York
X-LIC-LOCATION:America/New_York
BEGIN:STANDARD
DTSTART:20241103T010000
TZOFFSETFROM:-0400
TZOFFSETTO:-0500
TZNAME:EST
END:STANDARD
END:VTIMEZONE
END:VCALENDAR