BEGIN:VCALENDAR
VERSION:2.0
PRODID:-//wp-events-plugin.com//7.2.3.1//EN
TZID:America/New_York
X-WR-TIMEZONE:America/New_York
BEGIN:VEVENT
UID:4045@wjcouncil.org
DTSTART;TZID=America/New_York:20241114T130000
DTEND;TZID=America/New_York:20241114T143000
DTSTAMP:20241010T134009Z
URL:https://www.wjcouncil.org/events/dorot-mahjong-with-mara/
SUMMARY:DOROT - Mahjong with Mara
DESCRIPTION:If you have just started playing Mahjong or always wanted to
 learn\, this is a program for you!  Our experienced teacher Mara\, will
 spend the first two sessions explaining the basics of the game\, followed
 by five additional sessions for hands-on play. Please note that a game
 requires 4 people and so we ask you to be committed to attending all
 sessions.\n\nDue to limited capacity\, we cannot welcome walk-ins for this
 program. \n\nNov 14 – January 23 (skipping Nov 28\, Dec 26\, Jan 1
 &amp\; 9) @ 1:00 – 2:30 \n\nAdults 60+ register here:\n\nMahjong with
 Mara (jotform.com)
CATEGORIES:Other
LOCATION:DOROT Westchester\, 925 Westchester Ave\, White Plains\, NY\,
 10604\, Westchester\, United States
X-APPLE-STRUCTURED-LOCATION;VALUE=URI;X-ADDRESS=925 Westchester Ave\, White
 Plains\, NY\, 10604\, Westchester\, United
 States;X-APPLE-RADIUS=100;X-TITLE=DOROT Westchester:geo:0,0
END:VEVENT
BEGIN:VTIMEZONE
TZID:America/New_York
X-LIC-LOCATION:America/New_York
BEGIN:STANDARD
DTSTART:20241103T010000
TZOFFSETFROM:-0400
TZOFFSETTO:-0500
TZNAME:EST
END:STANDARD
END:VTIMEZONE
END:VCALENDAR