BEGIN:VCALENDAR
VERSION:2.0
PRODID:-//wp-events-plugin.com//7.2.3.1//EN
TZID:America/New_York
X-WR-TIMEZONE:America/New_York
BEGIN:VEVENT
UID:3525@wjcouncil.org
DTSTART;TZID=America/New_York:20240302T103000
DTEND;TZID=America/New_York:20240302T120000
DTSTAMP:20240107T200124Z
URL:https://www.wjcouncil.org/events/csr-the-legacy-of-lenny-brunch-learn-
 with-cantor-comisar/
SUMMARY:CSR - The Legacy of Lenny:  Brunch & Learn with Cantor Comisar
DESCRIPTION:Leonard Bernstein was not merely a great
 composer/conductor/scholar who happened to be Jewish. His love for Jewish
 heritage\, history\, and the state of Israel inspired his music . Come
 learn about the Jewish Leonard Bernstein. \nCantor Jonathan Comisar will
 share insights and excerpts from Bernstein’s Jeremiah Symphony\, Kaddish
 Symphony\, and the celebrated Chichester Psalms (and more!)\nFor more
 information about the speaker and to RSVP\, please visit
 https://www.comsynrye.org/legacy-of-lenny\n\nCommunity Synagogue of Rye is
 a reform Jewish congregation located in Rye\, NY.  www.comsynrye.org.
  914-967-6262.
ATTACH;FMTTYPE=image/jpeg:https://www.wjcouncil.org/wp-content/uploads/202
 4/01/Legacy-of-Lenny-350-x-350-px.png
CATEGORIES:Breakfast,Cultural,Lecture
LOCATION:Community Synagogue of Rye\, 200 Forest Ave\, Rye\, NY\, 10580\,
 United States
X-APPLE-STRUCTURED-LOCATION;VALUE=URI;X-ADDRESS=200 Forest Ave\, Rye\, NY\,
 10580\, United States;X-APPLE-RADIUS=100;X-TITLE=Community Synagogue of
 Rye:geo:0,0
END:VEVENT
BEGIN:VTIMEZONE
TZID:America/New_York
X-LIC-LOCATION:America/New_York
BEGIN:STANDARD
DTSTART:20231105T010000
TZOFFSETFROM:-0400
TZOFFSETTO:-0500
TZNAME:EST
END:STANDARD
END:VTIMEZONE
END:VCALENDAR