BEGIN:VCALENDAR
VERSION:2.0
PRODID:-//wp-events-plugin.com//7.2.3.1//EN
TZID:America/New_York
X-WR-TIMEZONE:America/New_York
BEGIN:VEVENT
UID:4010@wjcouncil.org
DTSTART;TZID=America/New_York:20241016T190000
DTEND;TZID=America/New_York:20241016T210000
DTSTAMP:20241007T141336Z
URL:https://www.wjcouncil.org/events/csr-israel-a-year-after-the-black-sab
 bath-with-mike-hollander-jewish-educator/
SUMMARY:CSR - "Israel: A Year After the Black Sabbath" with Mike
 Hollander\, Jewish Educator
DESCRIPTION:\nAchim/Brotherhood of Community Synagogue of Rye (CSR) invites
 everyone to an evening with Israeli-Canadian Educator and Tour Guide Mike
 Hollander (who has led many CSR trips to Israel) in conversation with Rabbi
 Gropper about the current situation in Israel\, how we can remain informed
 and serve as ongoing advocates for Israel.$50 /person includes dinnerRead
 more about Mike Hollander\nRSVP required:
 bit.ly/achimhollander24\n\nCommunity Synagogue of Rye is a reform
 congregation located at 200 Forest Avenue\, Rye\, NY\, 10580 | 914-967-6262
 | www.comsynrye.org
CATEGORIES:Dinner,Israel,Israel at War
LOCATION:Community Synagogue of Rye\, 200 Forest Ave\, Rye\, NY\, 10580\,
 United States
X-APPLE-STRUCTURED-LOCATION;VALUE=URI;X-ADDRESS=200 Forest Ave\, Rye\, NY\,
 10580\, United States;X-APPLE-RADIUS=100;X-TITLE=Community Synagogue of
 Rye:geo:0,0
END:VEVENT
BEGIN:VTIMEZONE
TZID:America/New_York
X-LIC-LOCATION:America/New_York
BEGIN:DAYLIGHT
DTSTART:20240310T030000
TZOFFSETFROM:-0500
TZOFFSETTO:-0400
TZNAME:EDT
END:DAYLIGHT
END:VTIMEZONE
END:VCALENDAR