BEGIN:VCALENDAR
VERSION:2.0
PRODID:-//wp-events-plugin.com//7.2.3.1//EN
TZID:America/New_York
X-WR-TIMEZONE:America/New_York
BEGIN:VEVENT
UID:3603@wjcouncil.org
DTSTART;TZID=America/New_York:20240512T200000
DTEND;TZID=America/New_York:20240512T200000
DTSTAMP:20240212T183135Z
URL:https://www.wjcouncil.org/events/community-yom-hazikaron-ceremony/
SUMMARY:Community Yom  HaZikaron Ceremony
DESCRIPTION:
CATEGORIES:Israel,Shabbat/Holidays
END:VEVENT
BEGIN:VTIMEZONE
TZID:America/New_York
X-LIC-LOCATION:America/New_York
BEGIN:DAYLIGHT
DTSTART:20240310T030000
TZOFFSETFROM:-0500
TZOFFSETTO:-0400
TZNAME:EDT
END:DAYLIGHT
END:VTIMEZONE
END:VCALENDAR