BEGIN:VCALENDAR
VERSION:2.0
PRODID:-//wp-events-plugin.com//7.2.3.1//EN
TZID:America/New_York
X-WR-TIMEZONE:America/New_York
BEGIN:VEVENT
UID:3605@wjcouncil.org
DTSTART;TZID=America/New_York:20240519T150000
DTEND;TZID=America/New_York:20240519T170000
DTSTAMP:20240327T012836Z
URL:https://www.wjcouncil.org/events/community-yom-haatzmaut-celebration/
SUMMARY:Community Yom Ha'atzmaut Celebration
DESCRIPTION:
CATEGORIES:Israel,Yom Ha'atzmaut/Israeli Independence Day Celebration
END:VEVENT
BEGIN:VTIMEZONE
TZID:America/New_York
X-LIC-LOCATION:America/New_York
BEGIN:DAYLIGHT
DTSTART:20240310T030000
TZOFFSETFROM:-0500
TZOFFSETTO:-0400
TZNAME:EDT
END:DAYLIGHT
END:VTIMEZONE
END:VCALENDAR