BEGIN:VCALENDAR
VERSION:2.0
PRODID:-//wp-events-plugin.com//7.2.3.1//EN
TZID:America/New_York
X-WR-TIMEZONE:America/New_York
BEGIN:VEVENT
UID:4284@wjcouncil.org
DTSTART;TZID=America/New_York:20250314T163000
DTEND;TZID=America/New_York:20250314T180000
DTSTAMP:20250131T185556Z
URL:https://www.wjcouncil.org/events/chabad-rivertowns-hip-hop-purim/
SUMMARY:Chabad Rivertowns - Hip Hop Purim
DESCRIPTION:Get ready for Hip Hop Purim at Chabad of the Rivertowns!
 Experience an interactive family rap show\, epic Megillah reading\, groovy
 Jewish music\, and delicious treats. Bring the whole family for this unique
 celebration where tradition meets modern fun.\n\nFriday\, March 14\, 4:30
 PM. Everyone welcome!\n\nRSVP: www.chabadrt.org/rsvp
ATTACH;FMTTYPE=image/jpeg:https://www.wjcouncil.org/wp-content/uploads/202
 5/01/Purim-Hip-Hop-2025-1-1.jpg
CATEGORIES:Entertainment,Jewish Holidays
END:VEVENT
BEGIN:VTIMEZONE
TZID:America/New_York
X-LIC-LOCATION:America/New_York
BEGIN:DAYLIGHT
DTSTART:20250309T030000
TZOFFSETFROM:-0500
TZOFFSETTO:-0400
TZNAME:EDT
END:DAYLIGHT
END:VTIMEZONE
END:VCALENDAR