BEGIN:VCALENDAR
VERSION:2.0
PRODID:-//wp-events-plugin.com//7.2.3.1//EN
TZID:America/New_York
X-WR-TIMEZONE:America/New_York
BEGIN:VEVENT
UID:3932@wjcouncil.org
DTSTART;TZID=America/New_York:20241003T163000
DTEND;TZID=America/New_York:20241003T170000
DTSTAMP:20240827T114249Z
URL:https://www.wjcouncil.org/events/chabad-of-the-rivertowns-shofar-at-th
 e-park/
SUMMARY:Chabad of the Rivertowns - Shofar at the Park
DESCRIPTION:Discover the magic of Rosh Hashana with your little ones at
 Chabad of the Rivertowns' “Shofar at the Park” celebration! This
 joyful event brings the spirit of the Jewish New Year to life in a way
 that’s perfect for kids and families of all backgrounds\, featuring
 Wonderspark Puppets\, Holiday songs\, hands-on activities\, shofar
 blowing\, and Tashlich.\n\nPerfect for ages 0-8.
CATEGORIES:Entertainment,Shabbat/Holidays
END:VEVENT
BEGIN:VTIMEZONE
TZID:America/New_York
X-LIC-LOCATION:America/New_York
BEGIN:DAYLIGHT
DTSTART:20240310T030000
TZOFFSETFROM:-0500
TZOFFSETTO:-0400
TZNAME:EDT
END:DAYLIGHT
END:VTIMEZONE
END:VCALENDAR