BEGIN:VCALENDAR
VERSION:2.0
PRODID:-//wp-events-plugin.com//7.2.3.1//EN
TZID:America/New_York
X-WR-TIMEZONE:America/New_York
BEGIN:VEVENT
UID:4088@wjcouncil.org
DTSTART;TZID=America/New_York:20241113T190000
DTEND;TZID=America/New_York:20241113T190000
DTSTAMP:20241104T142356Z
URL:https://www.wjcouncil.org/events/chabad-making-sense-of-10-7-and-globa
 l-antisemitism/
SUMMARY:Chabad - Making Sense of 10/7 and Global Antisemitism
DESCRIPTION:Register here\, https://www.chabadrt.org/RSVP\n\n&nbsp\;
ATTACH;FMTTYPE=image/jpeg:https://www.wjcouncil.org/wp-content/uploads/202
 4/11/Chabad-11-13-24.jpg
CATEGORIES:Israel
END:VEVENT
BEGIN:VTIMEZONE
TZID:America/New_York
X-LIC-LOCATION:America/New_York
BEGIN:STANDARD
DTSTART:20241103T010000
TZOFFSETFROM:-0400
TZOFFSETTO:-0500
TZNAME:EST
END:STANDARD
END:VTIMEZONE
END:VCALENDAR