BEGIN:VCALENDAR
VERSION:2.0
PRODID:-//wp-events-plugin.com//7.2.3.1//EN
TZID:America/New_York
X-WR-TIMEZONE:America/New_York
BEGIN:VEVENT
UID:4057@wjcouncil.org
DTSTART;TZID=America/New_York:20241110T123000
DTEND;TZID=America/New_York:20241110T170000
DTSTAMP:20241010T143302Z
URL:https://www.wjcouncil.org/events/beth-el-sisterhoods-fall-craft-fair-b
 outique/
SUMMARY:Beth El Sisterhood's Fall Craft Fair &amp\; Boutique
DESCRIPTION:Sunday\, November 10th    12:30pm – 5:00pm\,  1324 North
 Avenue\, New Rochelle\, Free Admission – All are welcome!\n\n20+ Crafters
 and Vendors\n\nJudaica and Menorahs from Israel\n\nJewelry\n\nChildren’s
 Wear\n\nWomen’s Golf Wear \n\nGlove\, Scarves &amp\;
 Accessories\n\nWomen’s Fashion\n\nCeramics\, Fused Glass\, Mosaics\,
 Art\n\nHandmade Linens\n\nPurses and luggage\n\nReuseable waterproof bags\,
 bowl covers\n\nand The Cheese Guy
ATTACH;FMTTYPE=image/jpeg:https://www.wjcouncil.org/wp-content/uploads/202
 4/10/Sisterhood-Boutique-Flyer.sm_.png
CATEGORIES:Community,Cultural,Entertainment
END:VEVENT
BEGIN:VTIMEZONE
TZID:America/New_York
X-LIC-LOCATION:America/New_York
BEGIN:STANDARD
DTSTART:20241103T010000
TZOFFSETFROM:-0400
TZOFFSETTO:-0500
TZNAME:EST
END:STANDARD
END:VTIMEZONE
END:VCALENDAR