BEGIN:VCALENDAR
VERSION:2.0
PRODID:-//wp-events-plugin.com//7.2.3.1//EN
TZID:America/New_York
X-WR-TIMEZONE:America/New_York
BEGIN:VEVENT
UID:4086@wjcouncil.org
DTSTART;TZID=America/New_York:20241115T181500
DTEND;TZID=America/New_York:20241115T211500
DTSTAMP:20241107T194346Z
URL:https://www.wjcouncil.org/events/antisemitism-race-white-supremacy-how
 -do-we-build-a-more-inclusive-democracy/
SUMMARY:Congregation Kol Ami - Antisemitism\, Race & White Supremacy: How
 Do We Build a More Inclusive Democracy?
DESCRIPTION:Over the past few years\, and in the last year in particular\,
 we have seen a rising tide of hatred in our country. Antisemitic rhetoric\,
 threats\, and violence have somehow become commonplace. And we know that
 hate begets more hate and\, as Ambassador Deborah Lipstadt says\, the
 destinies of vulnerable\, minority communities are bound up with each
 other.\nOn November 15\, Congregation Kol Ami could not have two better
 folks to be in conversation about where we are and where we need to go. Amy
 Spitalnick is a rising powerful and important voice responding to
 antisemitism and hate\, gaining notoriety for successfully suing the
 neo-Nazis who organized the hate-filled rally in Charlottesville in 2017.
 The Rev. Al Sharpton remains a leading voice in the Civil Rights Movement.
 In recent years he has worked with the Reform Movement 2019 RAC
 Consultation on Conscience recognizing that in the past he could have "done
 more to heal\, rather than to harm." And over the past year he has
 regularly stood by the Jewish community\, bringing Jewish communal leaders
 to his MSNBC program to speak about October 7 and the crisis of
 antisemitism in America.\nThis will be a night you don't want to miss\,
 starting with Kabbalat Shabbat service at 6:15pm followed by dinner at
 7:15pm and guest speakers at 8pm. Join us for the entire evening or just
 for the program. Registration required.\nCLICK HERE to register.
CATEGORIES:Combating Racism,Community,Dinner
END:VEVENT
BEGIN:VTIMEZONE
TZID:America/New_York
X-LIC-LOCATION:America/New_York
BEGIN:STANDARD
DTSTART:20241103T010000
TZOFFSETFROM:-0400
TZOFFSETTO:-0500
TZNAME:EST
END:STANDARD
END:VTIMEZONE
END:VCALENDAR