BEGIN:VCALENDAR
VERSION:2.0
PRODID:-//wp-events-plugin.com//7.2.3.1//EN
TZID:America/New_York
X-WR-TIMEZONE:America/New_York
BEGIN:VEVENT
UID:5013@wjcouncil.org
DTSTART;TZID=America/New_York:20260423T190000
DTEND;TZID=America/New_York:20260423T210000
DTSTAMP:20260330T172151Z
URL:https://www.wjcouncil.org/events/ajc-westchester-fairfield-you-are-cor
 dially-invited-faith-in-motion-how-mecca-rome-and-jerusalem-continue-to-sh
 ape-our-stories-shared-roots-divergent-paths-series-in-partnership-with-io
 na-univer/
SUMMARY:AJC Westchester/Fairfield: You are cordially invited  Faith in
 Motion: How Mecca\, Rome\, and Jerusalem Continue to Shape Our Stories
 Shared Roots\, Divergent Paths Series In Partnership with Iona University
DESCRIPTION:\n\n\n\n\n\n\n\n\n\n\nThursday\, April 23\n\n7:00
 p.m.\n\nLocation Upon
 RSVP\n\n\n\n\n\n\n\n\n\n\n\n\n\n\n\n\n\n\n\n\nRegistration
 \n\n\n\n\n\n\n\n\n\n\n\n\n\n\n\n&nbsp\;\n\n\n\n\n\n\n\n\n\n\n\nIn the weeks
 following Easter\, Ramadan\, and Passover\, join us for a powerful
 conversation on the shared origins of Islam\, Christianity\, and Judaism.
 Led by three esteemed scholars representing each of the three Abrahamic
 religions\, we’ll uncover how these intertwined traditions can help us
 listen better\, bridge divides\, and engage today’s civic challenges with
 greater insight and
 respect.\n\n\n\n\n\n\n\n\n\n\n\nFeaturing\n\n\n\n\n\n\n\n\n\n\n\n&nbsp\;\n\
 n\n\n\n\n\n\n\n\n\n\n\n\n\n\n\n\n\nMustafa Akyol\n\nCATO Institute Senior
 Fellow on Islam &amp\;
 Modernity\n\n\n\n\n\n\n\n\n\n\n\n\n\n\n\n\n\n\n\n\n\n\n\nAri Gordon\n\nAJC
 Director\, Muslim-Jewish
 Relations\n\n\n\n\n\n\n\n\n\n\n\n\n\n\n\n\n\n\n\n\n\n\n\nMagda
 Teter\n\nShvidler Chair in Judaic Studies and Professor of
 History\n\n\n\n\n\n\n\n\n\n\n\n\n\n\n\n\n\n\n\n\n\n\nFor additional
 information\, please contact
 westchester@ajc.org.\n\n\n\n&nbsp\;\n\n\n\n*AJC is a 501(c)(3) organization
 that neither supports nor opposes candidates for elected
 offices.\n\n\n\n\n\n\n\n\n\n\n\n\n\n\n\n\n\n\n\n\n\n\n
CATEGORIES:Lecture
END:VEVENT
BEGIN:VTIMEZONE
TZID:America/New_York
X-LIC-LOCATION:America/New_York
BEGIN:DAYLIGHT
DTSTART:20260308T030000
TZOFFSETFROM:-0500
TZOFFSETTO:-0400
TZNAME:EDT
END:DAYLIGHT
END:VTIMEZONE
END:VCALENDAR