BEGIN:VCALENDAR
VERSION:2.0
PRODID:-//wp-events-plugin.com//7.2.3.1//EN
TZID:America/New_York
X-WR-TIMEZONE:America/New_York
BEGIN:VEVENT
UID:3598@wjcouncil.org
DTSTART;TZID=America/New_York:20240304T190000
DTEND;TZID=America/New_York:20240304T200000
DTSTAMP:20240212T155419Z
URL:https://www.wjcouncil.org/events/ajc-westchester-fairfield-jewish-iden
 tity-post-october-7-featuring-abigail-pogrebin/
SUMMARY:AJC Westchester Fairfield - Jewish Identity Post October 7
 featuring Abigail Pogrebin
DESCRIPTION:
CATEGORIES:Lecture
LOCATION:Congregation Kol Ami\, 252 Soundview Avenue\, White Plains\, New
 York\, 10601\, United States
X-APPLE-STRUCTURED-LOCATION;VALUE=URI;X-ADDRESS=252 Soundview Avenue\,
 White Plains\, New York\, 10601\, United
 States;X-APPLE-RADIUS=100;X-TITLE=Congregation Kol Ami:geo:0,0
END:VEVENT
BEGIN:VTIMEZONE
TZID:America/New_York
X-LIC-LOCATION:America/New_York
BEGIN:STANDARD
DTSTART:20231105T010000
TZOFFSETFROM:-0400
TZOFFSETTO:-0500
TZNAME:EST
END:STANDARD
END:VTIMEZONE
END:VCALENDAR