BEGIN:VCALENDAR
VERSION:2.0
PRODID:-//wp-events-plugin.com//7.2.3.1//EN
TZID:America/New_York
X-WR-TIMEZONE:America/New_York
BEGIN:VEVENT
UID:5004@wjcouncil.org
DTSTART;TZID=America/New_York:20260429T183000
DTEND;TZID=America/New_York:20260429T183000
DTSTAMP:20260323T202555Z
URL:https://www.wjcouncil.org/events/afmda-an-evening-with-lior-raz-co-cre
 ator-and-star-of-fauda/
SUMMARY:AFMDA - An Evening with Lior Raz - Co-Creator and Star of Fauda
DESCRIPTION:An evening with Lior Raz\, event details and program\, please
 click here https://afmda.org/event/raz-chq/\n\nPlease register
 here\, https://www.wizevents.com/register/register_add.php?sessid=14126&am
 p\;id=9614
ATTACH;FMTTYPE=image/jpeg:https://www.wjcouncil.org/wp-content/uploads/202
 6/03/AFMDA2Picture2.jpg
CATEGORIES:Entertainment,Israel,Other
END:VEVENT
BEGIN:VTIMEZONE
TZID:America/New_York
X-LIC-LOCATION:America/New_York
BEGIN:DAYLIGHT
DTSTART:20260308T030000
TZOFFSETFROM:-0500
TZOFFSETTO:-0400
TZNAME:EDT
END:DAYLIGHT
END:VTIMEZONE
END:VCALENDAR