BEGIN:VCALENDAR
VERSION:2.0
PRODID:-//wp-events-plugin.com//7.2.3.1//EN
TZID:America/New_York
X-WR-TIMEZONE:America/New_York
BEGIN:VEVENT
UID:3990@wjcouncil.org
DTSTART;TZID=America/New_York:20241027T100000
DTEND;TZID=America/New_York:20241027T113000
DTSTAMP:20240903T150147Z
URL:https://www.wjcouncil.org/events/a-taste-of-judaism-2/
SUMMARY:A Taste of Judaism
DESCRIPTION:\n\nA Taste of Judaism\n\nSept 22\, Oct 27\, Dec 8\n\nThis
 fall\, Temple Israel of Northern Westchester will be offering a 3 -session
 course called\, A Taste of Judaism®.  A Taste of Judaism® makes it easy
 to explore Judaism. There are no course books and no homework. The course
 content assumes no previous knowledge about or exposure to Judaism. Each
 class explores a different aspect of Judaism.\n\nAll are welcome to join
 and to explore Judaism!  Come to 1 session or all 3.\n\n3 Sundays: 10:00
 - 11:30 AM (end time is approximate):\n\n 	September 22:  Torah/Jewish
 Values\n 	October 27: God / Jewish Spirituality\n 	December 8: K’lal
 Yisrael / Jewish Community\n\n&nbsp\;\n\nRegister here:
 https://www.tinw.org/event/taste-of-judaism.html
END:VEVENT
BEGIN:VTIMEZONE
TZID:America/New_York
X-LIC-LOCATION:America/New_York
BEGIN:DAYLIGHT
DTSTART:20240310T030000
TZOFFSETFROM:-0500
TZOFFSETTO:-0400
TZNAME:EDT
END:DAYLIGHT
END:VTIMEZONE
END:VCALENDAR